BEGIN:VCALENDAR
VERSION:2.0
PRODID:-//Talbot Historical Society - ECPv6.15.18//NONSGML v1.0//EN
CALSCALE:GREGORIAN
METHOD:PUBLISH
X-ORIGINAL-URL:https://talbothistory.org
X-WR-CALDESC:Events for Talbot Historical Society
REFRESH-INTERVAL;VALUE=DURATION:PT1H
X-Robots-Tag:noindex
X-PUBLISHED-TTL:PT1H
BEGIN:VTIMEZONE
TZID:America/New_York
BEGIN:DAYLIGHT
TZOFFSETFROM:-0500
TZOFFSETTO:-0400
TZNAME:EDT
DTSTART:20240310T070000
END:DAYLIGHT
BEGIN:STANDARD
TZOFFSETFROM:-0400
TZOFFSETTO:-0500
TZNAME:EST
DTSTART:20241103T060000
END:STANDARD
BEGIN:DAYLIGHT
TZOFFSETFROM:-0500
TZOFFSETTO:-0400
TZNAME:EDT
DTSTART:20250309T070000
END:DAYLIGHT
BEGIN:STANDARD
TZOFFSETFROM:-0400
TZOFFSETTO:-0500
TZNAME:EST
DTSTART:20251102T060000
END:STANDARD
BEGIN:DAYLIGHT
TZOFFSETFROM:-0500
TZOFFSETTO:-0400
TZNAME:EDT
DTSTART:20260308T070000
END:DAYLIGHT
BEGIN:STANDARD
TZOFFSETFROM:-0400
TZOFFSETTO:-0500
TZNAME:EST
DTSTART:20261101T060000
END:STANDARD
END:VTIMEZONE
BEGIN:VEVENT
DTSTART;TZID=America/New_York:20251108T110000
DTEND;TZID=America/New_York:20251108T130000
DTSTAMP:20260423T173242
CREATED:20250408T140750Z
LAST-MODIFIED:20251022T184730Z
UID:4316-1762599600-1762606800@talbothistory.org
SUMMARY:Historic Walking Tours
DESCRIPTION:These are the last walking tours for this year. We will begin walking tours again in the spring of 2026. \nHistoric Walking Tours\nSaturday November 8th\, 2025\n11am and 12pm at 25 S. Washington St.\nJoin us for an hour-long historic walking tour of beautiful downtown Easton. Do you recognize any of these buildings? How many times have fires spread throughout downtown Easton in the past? These questions and many more will be answered through wonderfully enriching stories about Easton’s past.\nFirst tour: Starts at 11am\nSecond tour: Starts at 12pm\nFREE TO THE PUBLIC\nThe tour guide will take you to various buildings within the historic district of downtown and explain the importance of the buildings in Easton’s history.\nALL TOURS MEET AT\n25 S. Washington Street\nEaston\, MD 21601.\n(the Lawrence Denton Extended Museum and Catherine Valliant Hill Research Center)\nThere are 10 spots available.\nPlease contact us for reservations\nor if you have any questions:\n410-822-0773 or email kaylaw@talbothistory.org\nTalbot Historical Society office/research/exhibit hours are:\nWednesday through Saturday 10am-3pm
URL:https://talbothistory.org/event/historic-walking-tours-24/
END:VEVENT
END:VCALENDAR