BEGIN:VCALENDAR
VERSION:2.0
PRODID:-//Talbot Historical Society - ECPv6.15.18//NONSGML v1.0//EN
CALSCALE:GREGORIAN
METHOD:PUBLISH
X-ORIGINAL-URL:https://talbothistory.org
X-WR-CALDESC:Events for Talbot Historical Society
REFRESH-INTERVAL;VALUE=DURATION:PT1H
X-Robots-Tag:noindex
X-PUBLISHED-TTL:PT1H
BEGIN:VTIMEZONE
TZID:America/New_York
BEGIN:DAYLIGHT
TZOFFSETFROM:-0500
TZOFFSETTO:-0400
TZNAME:EDT
DTSTART:20250309T070000
END:DAYLIGHT
BEGIN:STANDARD
TZOFFSETFROM:-0400
TZOFFSETTO:-0500
TZNAME:EST
DTSTART:20251102T060000
END:STANDARD
BEGIN:DAYLIGHT
TZOFFSETFROM:-0500
TZOFFSETTO:-0400
TZNAME:EDT
DTSTART:20260308T070000
END:DAYLIGHT
BEGIN:STANDARD
TZOFFSETFROM:-0400
TZOFFSETTO:-0500
TZNAME:EST
DTSTART:20261101T060000
END:STANDARD
BEGIN:DAYLIGHT
TZOFFSETFROM:-0500
TZOFFSETTO:-0400
TZNAME:EDT
DTSTART:20270314T070000
END:DAYLIGHT
BEGIN:STANDARD
TZOFFSETFROM:-0400
TZOFFSETTO:-0500
TZNAME:EST
DTSTART:20271107T060000
END:STANDARD
END:VTIMEZONE
BEGIN:VEVENT
DTSTART;TZID=America/New_York:20260204T130000
DTEND;TZID=America/New_York:20260204T140000
DTSTAMP:20260423T124017
CREATED:20260117T175951Z
LAST-MODIFIED:20260117T175951Z
UID:4794-1770210000-1770213600@talbothistory.org
SUMMARY:A Date With History: USCT in Queen Anne's County: additional stories from the Eastern Shore with Chris Pupke
DESCRIPTION:“The United States Colored Troops from Queen Anne’s County: \nAdditional Stories of USCT from the Eastern Shore”\nwith Chris Pupke\nFormer President of the Queen Anne’s County Historical Society\nWednesday\, February 4\, 2026 at 1:00pm\nat the Talbot County Free Library\nThe United States Colored Troops (USCT) are the free enslaved African Americans who fought for the Union Army during the Civil War. By the end of the war\, USCT represented almost 10% of the Union Army. This presentation will focus on the USCT \nfrom Queen Anne’s County. These individuals fought valiantly at the Battle of The Crater and Fort Gilmer among other battles. Their contributions helped win the war\, preserve the Union and end slavery. And yet\, for too long\, their contributions have been forgotten or ignored. In this discussion\, we will discuss the remarkable accomplishments of the 7th\, 19th and 39th regiments of the USCT and meet some of the more than 435 USCT veterans who came from Queen Anne’s County.\nChris Pupke is a former President of the Queen Anne’s County Historical Society. He serves as a member of the Advisory Board at Kennard African American Heritage and Cultural Center where he offers lectures on African American history in Queen Anne’s \nCounty through the Institute for Adult Learning. He has been researching the United States Colored Troops from Queen Anne’s County for a decade and is helping to establish a memorial in their honor at Kennard. Mr. Pupke is the Executive Director of the Biophilia Foundation\, a non-profit organization dedicated to conserving biodiversity.\nThis is presented by the Talbot Historical Society in partnership with the Talbot County Free Library and will take place at the library located at 100 W. Dover St.\, Easton\, MD 21601. \nThe lecture will be presented on February 4\, 2026 at 1:00pm at the Talbot County Free Library \nThe lecture is free to the public\, but reservations are requested. \nIf you have any questions or would like to make a reservation: \n 410-822-0773 or email kaylaw@talbothistory.org\nTalbot Historical Society office/research/exhibit hours are: \nWednesday through Saturday 10am-3pm
URL:https://talbothistory.org/event/a-date-with-history-usct-in-queen-annes-county-additional-stories-from-the-eastern-shore-with-chris-pupke/
END:VEVENT
END:VCALENDAR