BEGIN:VCALENDAR
VERSION:2.0
PRODID:-//Talbot Historical Society - ECPv6.15.18//NONSGML v1.0//EN
CALSCALE:GREGORIAN
METHOD:PUBLISH
X-WR-CALNAME:Talbot Historical Society
X-ORIGINAL-URL:https://talbothistory.org
X-WR-CALDESC:Events for Talbot Historical Society
REFRESH-INTERVAL;VALUE=DURATION:PT1H
X-Robots-Tag:noindex
X-PUBLISHED-TTL:PT1H
BEGIN:VTIMEZONE
TZID:America/New_York
BEGIN:DAYLIGHT
TZOFFSETFROM:-0500
TZOFFSETTO:-0400
TZNAME:EDT
DTSTART:20250309T070000
END:DAYLIGHT
BEGIN:STANDARD
TZOFFSETFROM:-0400
TZOFFSETTO:-0500
TZNAME:EST
DTSTART:20251102T060000
END:STANDARD
BEGIN:DAYLIGHT
TZOFFSETFROM:-0500
TZOFFSETTO:-0400
TZNAME:EDT
DTSTART:20260308T070000
END:DAYLIGHT
BEGIN:STANDARD
TZOFFSETFROM:-0400
TZOFFSETTO:-0500
TZNAME:EST
DTSTART:20261101T060000
END:STANDARD
BEGIN:DAYLIGHT
TZOFFSETFROM:-0500
TZOFFSETTO:-0400
TZNAME:EDT
DTSTART:20270314T070000
END:DAYLIGHT
BEGIN:STANDARD
TZOFFSETFROM:-0400
TZOFFSETTO:-0500
TZNAME:EST
DTSTART:20271107T060000
END:STANDARD
END:VTIMEZONE
BEGIN:VEVENT
DTSTART;TZID=America/New_York:20260221T100000
DTEND;TZID=America/New_York:20260221T160000
DTSTAMP:20260423T123851
CREATED:20260129T140539Z
LAST-MODIFIED:20260211T184914Z
UID:4850-1771668000-1771689600@talbothistory.org
SUMMARY:Native American Heritage and Artifact Day
DESCRIPTION:Native American Heritage and Artifact Day \nSaturday\, February 21\, 2026 from 10:00a – 4:00p\nat the Waterfowl Festival Building\nFREE EVENT \nThe Talbot Historical Society is presenting a Native American Heritage & Artifact Day\, held on February 21\, 2026 from 10 a.m. to 4 p.m.\, offering families and individuals a rare opportunity to experience centuries-old Native American artifacts along with the living history of the Pocomoke Indian Nation through demonstrations\, presentations\, and cultural displays.\nThe Waterfowl Festival Building at 40 S. Harrison Street in Easton will be filled with remarkable local artifact collections\, displayed alongside their owners and finders. The stone tools on view date from 500 to more than 10\,000 years old\, offering a powerful glimpse into the deep Native American history of the region. Many of the rarely seen Talbot County collections will be on display\, including the most comprehensive collection spanning thousands of years and multiple cultures\, making this event a unique opportunity to view these historic remnants up close.\n Also featured will be “Pocomoke Indian Nation:  History\, Lifeways\, and Resources within Their Homelands and Sphere of Influence”\, featuring hands-on demonstrations by Tradition Bearers of the Pocomoke Indian Nation\, Inc.\, including flint knapping\, hide tanning using stone and bone tools\, traditional turkey hunting techniques\, a river cane flute\, and cattail decoy displays.\nAt 1 p.m.\, Norris (Buddy) Howard Jr. will present an illustrated lecture\, Pocomoke Indian Nation – Past\, Present\, Future\, exploring the Nation’s history and continuing cultural traditions.\nAdditional highlights include historic maps\, primary documents\, the Nause-Waiwash Tribe with information about their history and community. and a special presentation\, Eight Coates\, Seven Shirts\, Fifteen Fathom Wampum\, by Drew Shuptar-Rayvis\, citizen and cultural ambassador of the Pocomoke Indian Nation\, educator\, and advocate for living Indigenous history.\nThis free\, family-friendly event\, sponsored by the Talbot Historical Society\, Talbot County Free Library\, Waterfowl Festival and Talbot 250 and Mid-Shore Archaeology Club\, is open to the public and suitable for all ages. \nTalbot Historical Society office/research/exhibit hours are:\nWednesday through Saturday 10am-3pm
URL:https://talbothistory.org/event/native-american-heritage-day-2026/
END:VEVENT
END:VCALENDAR