BEGIN:VCALENDAR
VERSION:2.0
PRODID:-//Talbot Historical Society - ECPv6.15.18//NONSGML v1.0//EN
CALSCALE:GREGORIAN
METHOD:PUBLISH
X-ORIGINAL-URL:https://talbothistory.org
X-WR-CALDESC:Events for Talbot Historical Society
REFRESH-INTERVAL;VALUE=DURATION:PT1H
X-Robots-Tag:noindex
X-PUBLISHED-TTL:PT1H
BEGIN:VTIMEZONE
TZID:America/New_York
BEGIN:DAYLIGHT
TZOFFSETFROM:-0500
TZOFFSETTO:-0400
TZNAME:EDT
DTSTART:20250309T070000
END:DAYLIGHT
BEGIN:STANDARD
TZOFFSETFROM:-0400
TZOFFSETTO:-0500
TZNAME:EST
DTSTART:20251102T060000
END:STANDARD
BEGIN:DAYLIGHT
TZOFFSETFROM:-0500
TZOFFSETTO:-0400
TZNAME:EDT
DTSTART:20260308T070000
END:DAYLIGHT
BEGIN:STANDARD
TZOFFSETFROM:-0400
TZOFFSETTO:-0500
TZNAME:EST
DTSTART:20261101T060000
END:STANDARD
BEGIN:DAYLIGHT
TZOFFSETFROM:-0500
TZOFFSETTO:-0400
TZNAME:EDT
DTSTART:20270314T070000
END:DAYLIGHT
BEGIN:STANDARD
TZOFFSETFROM:-0400
TZOFFSETTO:-0500
TZNAME:EST
DTSTART:20271107T060000
END:STANDARD
END:VTIMEZONE
BEGIN:VEVENT
DTSTART;TZID=America/New_York:20260225T173000
DTEND;TZID=America/New_York:20260225T193000
DTSTAMP:20260423T124145
CREATED:20260129T162052Z
LAST-MODIFIED:20260129T165005Z
UID:4869-1772040600-1772047800@talbothistory.org
SUMMARY:Nathaniel "Uncle Nace" Hopkins: The Day Freedom Came - FREE performance
DESCRIPTION:“Uncle Nace: The Day Freedom Came”: A Living History of Nathaniel “Uncle Nace” Hopkins\nStarring Professional Actor Darius Wallace\nBorn enslaved\, Nathaniel “Uncle Nace” Hopkins carried the scars of bondage but refused to let them define him. During the Civil War\, “Uncle Nace” enlisted with the United States Colored Troops\, fighting for a freedom he had yet to taste fully for himself. Sent home sick and weary\, he returned to Trappe determined to build a new life as a free man not just for himself\, but for his entire community. Nathaniel Hopkins set to work building a Church\, free black schools\, roads and communities here in Talbot County and is responsible for the creation of Maryland’s first Emancipation Day Celebration in 1867\, one of our nation’s very first and the oldest that continues to be celebrated annually.\n \nAs the first parades marched through dusty streets of Trappe\, Nathaniel Hopkins became more than a soldier; he became a leader\, teacher\, and living reminder that freedom must be celebrated\, protected\, and passed on.\nThrough his eyes\, the Talbot Historical Society and the descendants of Nathaniel Hopkins\, in conjunction with professional actor\, Darius Wallace\, will bring “Uncle Nace” to life to portray his journey from the fields of slavery to the drums of war\, to his triumphant creation of Maryland’s first Emancipation Day Celebration in 1867.\nFree Public Performance:\nWednesday\, February 25th at 5:30 pm – Easton High School (723 Mecklenburg Avenue\, Easton)
URL:https://talbothistory.org/event/nathaniel-uncle-nace-hopkins-the-day-freedom-came-free-performance-3/
END:VEVENT
END:VCALENDAR