BEGIN:VCALENDAR
VERSION:2.0
PRODID:-//Talbot Historical Society - ECPv6.15.18//NONSGML v1.0//EN
CALSCALE:GREGORIAN
METHOD:PUBLISH
X-WR-CALNAME:Talbot Historical Society
X-ORIGINAL-URL:https://talbothistory.org
X-WR-CALDESC:Events for Talbot Historical Society
REFRESH-INTERVAL;VALUE=DURATION:PT1H
X-Robots-Tag:noindex
X-PUBLISHED-TTL:PT1H
BEGIN:VTIMEZONE
TZID:America/New_York
BEGIN:DAYLIGHT
TZOFFSETFROM:-0500
TZOFFSETTO:-0400
TZNAME:EDT
DTSTART:20240310T070000
END:DAYLIGHT
BEGIN:STANDARD
TZOFFSETFROM:-0400
TZOFFSETTO:-0500
TZNAME:EST
DTSTART:20241103T060000
END:STANDARD
BEGIN:DAYLIGHT
TZOFFSETFROM:-0500
TZOFFSETTO:-0400
TZNAME:EDT
DTSTART:20250309T070000
END:DAYLIGHT
BEGIN:STANDARD
TZOFFSETFROM:-0400
TZOFFSETTO:-0500
TZNAME:EST
DTSTART:20251102T060000
END:STANDARD
BEGIN:DAYLIGHT
TZOFFSETFROM:-0500
TZOFFSETTO:-0400
TZNAME:EDT
DTSTART:20260308T070000
END:DAYLIGHT
BEGIN:STANDARD
TZOFFSETFROM:-0400
TZOFFSETTO:-0500
TZNAME:EST
DTSTART:20261101T060000
END:STANDARD
END:VTIMEZONE
BEGIN:VEVENT
DTSTART;TZID=America/New_York:20251101T140000
DTEND;TZID=America/New_York:20251101T150000
DTSTAMP:20260423T160025
CREATED:20251022T164805Z
LAST-MODIFIED:20251022T184609Z
UID:4729-1762005600-1762009200@talbothistory.org
SUMMARY:The Day Freedom Came: A Living History of Nathaniel Hopkins - in Trappe
DESCRIPTION:Uncle Nace: The Day Freedom Came\nA Living History of Nathaniel Hopkins\nNovember 1st 2:00 PM – Scotts United Methodist Church in Trappe\nNovember 3rd 5:30 PM – Oxford Community Center \nBorn enslaved\, Nathaniel “Uncle Nace” Hopkins carried the scars of bondage but refused to let them define him. During the Civil War\, Uncle Nace enlisted with the United States Colored Troops\, fighting for a freedom he had yet to taste fully for himself. Sent home sick and weary\, he returned to Trappe determined to build a new life as a free man not just for himself\, but for his entire community. Uncle Nace set to work building free black schools\, a church\, roads and establishing communities here in Talbot County and is responsible for the creation of Maryland’s first Emancipation Day Celebration in 1867 – one of our nation’s earliest and the longest-running celebrations of its kind.\nAs the first parades marched through dusty streets of Trappe\, Uncle Nace became more than a soldier—he became a leader\, teacher\, and living reminder that freedom must be celebrated\, protected\, and passed on.\nThrough Uncle Nace’s eyes\, the Talbot Historical Society and the descendants of Nathaniel “Uncle Nace” Hopkins\, in conjunction with professional actor Darius Wallace\, will bring Nathaniel “Uncle Nace” Hopkins to life to portray his journeys from the fields of slavery to the drums of war\, to his triumphant creation of Maryland’s first Emancipation Day Celebration in 1867 – which continues to this day.\nSaturday November 1st\, Trappe’s “Nace’s Day” Schedule of Events: \n10:00 am –   Service at Scotts United Methodist (UM) Church – 3748 Main Street\, Trappe \n                –   Nathaniel “Uncle Nace” Hopkins Gravesite Visit\, Prayer and Benediction \n11:30 am –   Library Dedication at Nathaniel “Uncle Nace” Hopkins Park \n12:00 pm –   Food\, Vendors and Activities at Scotts UM Church Grounds \n1:00 pm –   Parade – Main Street\, Trappe \n2:00 pm –   Theatrical Performance: “Uncle Nace: The Day Freedom Came”-  Scotts UM Church \nMonday November 3rd –  Theatrical Performance – Oxford \n5:30 pm – “Uncle Nace: The Day Freedom Came” – The Oxford Community    \n                                  Center\, 200 Oxford Rd\, Oxford Maryland – Please RSVP at www.oxfordcc.org \nThank you to these generous Sponsors
URL:https://talbothistory.org/event/the-day-freedom-came-a-living-history-of-nathaniel-hopkins/
END:VEVENT
BEGIN:VEVENT
DTSTART;TZID=America/New_York:20251103T173000
DTEND;TZID=America/New_York:20251103T183000
DTSTAMP:20260423T160025
CREATED:20251022T164853Z
LAST-MODIFIED:20251022T165708Z
UID:4731-1762191000-1762194600@talbothistory.org
SUMMARY:The Day Freedom Came: A Living History of Nathaniel Hopkins - in Oxford
DESCRIPTION:Uncle Nace: The Day Freedom Came\nA Living History of Nathaniel Hopkins\nNovember 1st 2:00 PM – Scotts United Methodist Church in Trappe\nNovember 3rd 5:30 PM – Oxford Community Center \nBorn enslaved\, Nathaniel “Uncle Nace” Hopkins carried the scars of bondage but refused to let them define him. During the Civil War\, Uncle Nace enlisted with the United States Colored Troops\, fighting for a freedom he had yet to taste fully for himself. Sent home sick and weary\, he returned to Trappe determined to build a new life as a free man not just for himself\, but for his entire community. Uncle Nace set to work building free black schools\, a church\, roads and establishing communities here in Talbot County and is responsible for the creation of Maryland’s first Emancipation Day Celebration in 1867 – one of our nation’s earliest and the longest-running celebrations of its kind.\nAs the first parades marched through dusty streets of Trappe\, Uncle Nace became more than a soldier—he became a leader\, teacher\, and living reminder that freedom must be celebrated\, protected\, and passed on.\nThrough Uncle Nace’s eyes\, the Talbot Historical Society and the descendants of Nathaniel “Uncle Nace” Hopkins\, in conjunction with professional actor Darius Wallace\, will bring Nathaniel “Uncle Nace” Hopkins to life to portray his journeys from the fields of slavery to the drums of war\, to his triumphant creation of Maryland’s first Emancipation Day Celebration in 1867 – which continues to this day.\nSaturday November 1st\, Trappe’s “Nace’s Day” Schedule of Events: \n10:00 am –   Service at Scotts United Methodist (UM) Church – 3748 Main Street\, Trappe \n                –   Nathaniel “Uncle Nace” Hopkins Gravesite Visit\, Prayer and Benediction \n11:30 am –   Library Dedication at Nathaniel “Uncle Nace” Hopkins Park \n12:00 pm –   Food\, Vendors and Activities at Scotts UM Church Grounds \n1:00 pm –   Parade – Main Street\, Trappe \n2:00 pm –   Theatrical Performance: “Uncle Nace: The Day Freedom Came”-  Scotts UM Church \nMonday November 3rd –  Theatrical Performance – Oxford \n5:30 pm – “Uncle Nace: The Day Freedom Came” – The Oxford Community Center\, 200 Oxford Rd\, Oxford Maryland – Please RSVP at www.oxfordcc.org \nThank you to these generous Sponsors
URL:https://talbothistory.org/event/the-day-freedom-came-a-living-history-of-nathaniel-hopkins-in-oxford/
END:VEVENT
BEGIN:VEVENT
DTSTART;TZID=America/New_York:20251108T110000
DTEND;TZID=America/New_York:20251108T130000
DTSTAMP:20260423T160025
CREATED:20250408T140750Z
LAST-MODIFIED:20251022T184730Z
UID:4316-1762599600-1762606800@talbothistory.org
SUMMARY:Historic Walking Tours
DESCRIPTION:These are the last walking tours for this year. We will begin walking tours again in the spring of 2026. \nHistoric Walking Tours\nSaturday November 8th\, 2025\n11am and 12pm at 25 S. Washington St.\nJoin us for an hour-long historic walking tour of beautiful downtown Easton. Do you recognize any of these buildings? How many times have fires spread throughout downtown Easton in the past? These questions and many more will be answered through wonderfully enriching stories about Easton’s past.\nFirst tour: Starts at 11am\nSecond tour: Starts at 12pm\nFREE TO THE PUBLIC\nThe tour guide will take you to various buildings within the historic district of downtown and explain the importance of the buildings in Easton’s history.\nALL TOURS MEET AT\n25 S. Washington Street\nEaston\, MD 21601.\n(the Lawrence Denton Extended Museum and Catherine Valliant Hill Research Center)\nThere are 10 spots available.\nPlease contact us for reservations\nor if you have any questions:\n410-822-0773 or email kaylaw@talbothistory.org\nTalbot Historical Society office/research/exhibit hours are:\nWednesday through Saturday 10am-3pm
URL:https://talbothistory.org/event/historic-walking-tours-24/
END:VEVENT
BEGIN:VEVENT
DTSTART;TZID=America/New_York:20251118T130000
DTEND;TZID=America/New_York:20251118T140000
DTSTAMP:20260423T160025
CREATED:20251017T151555Z
LAST-MODIFIED:20251017T152758Z
UID:4710-1763470800-1763474400@talbothistory.org
SUMMARY:A Date With History: Doc\, I Need a Drink! with Ronald Lesher
DESCRIPTION:“Doc\, I Need a Drink”\nwith Ronald Lesher\, Ed.D. \nTuesday\, November 18 at 1:00pm at the Talbot County Free Library \nNational Prohibition began in mid-January\, 1920 and lasted until the repeal of the Eighteenth Amendment on December 5\, 1933. During that period of time one could obtain a prescription from a physician for medicinal alcohol. It was also a period when there were many bootleggers and moonshiners supplying illegal intoxicating beverages to the public. \nWe will explore some of the artifacts of the Prohibition Era: prescriptions and bottle seals that were used to regulate medicinal alcohol and counterfeits of the same to evade the legal requirements imposed by the federal government. The presentation will conclude with a prescription filled for spiritus frumenty (whiskey) in the 1920’s at the Jackson Pharmacy on Tilghman Island. \nRon Lesher has been a lifelong collector and researcher of tax stamps\, especially for distilled spirits beginning in the 1790’s and the receipts for the internal revenue tax on distilled spirits that brought on the Whiskey Rebellion.\nThis is presented by the Talbot Historical Society in partnership with the Talbot County Free Library and will take place at the library located at 100 W. Dover St.\, Easton\, MD 21601. \nThe lecture will be presented on November 18\, 2025 at 1:00pm at the Talbot County Free Library. The lecture is free to the public\, but reservations are requested. If you have any questions or would like to make a reservation: 410-822-0773 or email kaylaw@talbothistory.org \nTalbot Historical Society office/research/exhibit hours are: Wednesday through Saturday 10am-3pm
URL:https://talbothistory.org/event/a-date-with-history-doc-i-need-a-drink-with-ronald-lesher/
END:VEVENT
END:VCALENDAR